BEGIN:VCALENDAR
VERSION:2.0
PRODID:icalendar-ruby
CALSCALE:GREGORIAN
BEGIN:VEVENT
DTSTAMP:20260421T100207Z
UID:827f117e-ecb3-4271-9181-b2929238885c
DTSTART;TZID=Pacific/Auckland:20260422T190000
DTEND;TZID=Pacific/Auckland:20260422T193000
DESCRIPTION:Property ID# 664675
SUMMARY:Openhome for 7 Bluebird Lane
END:VEVENT
END:VCALENDAR
